BEGIN:VCALENDAR
VERSION:2.0
PRODID:-//People First Economy - ECPv6.15.20//NONSGML v1.0//EN
CALSCALE:GREGORIAN
METHOD:PUBLISH
X-ORIGINAL-URL:https://peoplefirsteconomy.org
X-WR-CALDESC:Events for People First Economy
REFRESH-INTERVAL;VALUE=DURATION:PT1H
X-Robots-Tag:noindex
X-PUBLISHED-TTL:PT1H
BEGIN:VTIMEZONE
TZID:America/Detroit
BEGIN:DAYLIGHT
TZOFFSETFROM:-0500
TZOFFSETTO:-0400
TZNAME:EDT
DTSTART:20240310T070000
END:DAYLIGHT
BEGIN:STANDARD
TZOFFSETFROM:-0400
TZOFFSETTO:-0500
TZNAME:EST
DTSTART:20241103T060000
END:STANDARD
BEGIN:DAYLIGHT
TZOFFSETFROM:-0500
TZOFFSETTO:-0400
TZNAME:EDT
DTSTART:20250309T070000
END:DAYLIGHT
BEGIN:STANDARD
TZOFFSETFROM:-0400
TZOFFSETTO:-0500
TZNAME:EST
DTSTART:20251102T060000
END:STANDARD
BEGIN:DAYLIGHT
TZOFFSETFROM:-0500
TZOFFSETTO:-0400
TZNAME:EDT
DTSTART:20260308T070000
END:DAYLIGHT
BEGIN:STANDARD
TZOFFSETFROM:-0400
TZOFFSETTO:-0500
TZNAME:EST
DTSTART:20261101T060000
END:STANDARD
END:VTIMEZONE
BEGIN:VEVENT
DTSTART;TZID=America/Detroit:20250714T090000
DTEND;TZID=America/Detroit:20251123T180000
DTSTAMP:20260423T085421
CREATED:20250603T144350Z
LAST-MODIFIED:20250603T144350Z
UID:10002631-1752483600-1763920800@peoplefirsteconomy.org
SUMMARY:The Power of Pollinators
DESCRIPTION:Get ready to be amazed at our newest interactive exhibit! From the smallest bees to fluttering butterflies and beyond\, this immersive experience brings you face-to-face with larger-than-life animatronic pollinators that reveal the secrets of nature’s hardest-working heroes. Explore the critical role these creatures play in sustaining ecosystems\, supporting biodiversity\, and ensuring that plants\, flowers\, and crops thrive. Join us to celebrate their incredible impact! Over 20 animatronic pollinators will be on display\, including butterflies\, beetles\, bees\, and the very important Poweshiek Skipperling\, which is the star of one of the Zoo’s most successful conservation programs.
URL:https://peoplefirsteconomy.org/event/the-power-of-pollinators/
END:VEVENT
BEGIN:VEVENT
DTSTART;TZID=America/Detroit:20250815T180000
DTEND;TZID=America/Detroit:20250815T210000
DTSTAMP:20260423T085421
CREATED:20250603T142935Z
LAST-MODIFIED:20250603T142935Z
UID:10002628-1755280800-1755291600@peoplefirsteconomy.org
SUMMARY:Locked Zoo: Cryptic Cats
DESCRIPTION:Get ready to embark on an epic adventure at Locked Zoo! This exhilarating\, after hours event transforms John Ball Zoo into a thrilling escape game room. Work against the clock as you and your team unravel nature-related mysteries\, solve intricate puzzles\, and explore the Zoo like never before. Ages 18+.
URL:https://peoplefirsteconomy.org/event/locked-zoo-cryptic-cats/
END:VEVENT
END:VCALENDAR