BEGIN:VCALENDAR
VERSION:2.0
PRODID:-//People First Economy - ECPv6.15.20//NONSGML v1.0//EN
CALSCALE:GREGORIAN
METHOD:PUBLISH
X-WR-CALNAME:People First Economy
X-ORIGINAL-URL:https://peoplefirsteconomy.org
X-WR-CALDESC:Events for People First Economy
REFRESH-INTERVAL;VALUE=DURATION:PT1H
X-Robots-Tag:noindex
X-PUBLISHED-TTL:PT1H
BEGIN:VTIMEZONE
TZID:America/Detroit
BEGIN:DAYLIGHT
TZOFFSETFROM:-0500
TZOFFSETTO:-0400
TZNAME:EDT
DTSTART:20230312T070000
END:DAYLIGHT
BEGIN:STANDARD
TZOFFSETFROM:-0400
TZOFFSETTO:-0500
TZNAME:EST
DTSTART:20231105T060000
END:STANDARD
BEGIN:DAYLIGHT
TZOFFSETFROM:-0500
TZOFFSETTO:-0400
TZNAME:EDT
DTSTART:20240310T070000
END:DAYLIGHT
BEGIN:STANDARD
TZOFFSETFROM:-0400
TZOFFSETTO:-0500
TZNAME:EST
DTSTART:20241103T060000
END:STANDARD
BEGIN:DAYLIGHT
TZOFFSETFROM:-0500
TZOFFSETTO:-0400
TZNAME:EDT
DTSTART:20250309T070000
END:DAYLIGHT
BEGIN:STANDARD
TZOFFSETFROM:-0400
TZOFFSETTO:-0500
TZNAME:EST
DTSTART:20251102T060000
END:STANDARD
END:VTIMEZONE
BEGIN:VEVENT
DTSTART;TZID=America/Detroit:20240617T100000
DTEND;TZID=America/Detroit:20240808T140000
DTSTAMP:20260421T211637
CREATED:20240501T174621Z
LAST-MODIFIED:20240718T191801Z
UID:10001492-1718618400-1723125600@peoplefirsteconomy.org
SUMMARY:Howard Christensen Nature Center Summer Survival Camps
DESCRIPTION:For kids 5-12 years old. $15 a day. Funfilled days of indoor and outdoor activities focusing on developing survival skills. Different every day. Bring your lunch and dress for the weather. \nAssociated Business: Fruit Ridge Markets
URL:https://peoplefirsteconomy.org/event/howard-christensen-nature-center-summer-survival-camps/
ATTACH;FMTTYPE=image/jpeg:https://peoplefirsteconomy.org/wp-content/uploads/gravity_forms/5-b73f1e4f654d9908a2edbdd3206ec467/2024/05/survival-camp.jpg
END:VEVENT
BEGIN:VEVENT
DTSTART;TZID=America/Detroit:20240712T090000
DTEND;TZID=America/Detroit:20240810T200000
DTSTAMP:20260421T211637
CREATED:20240713T001040Z
LAST-MODIFIED:20240718T191643Z
UID:10002472-1720774800-1723320000@peoplefirsteconomy.org
SUMMARY:Blueberries on the Fruit Ridge
DESCRIPTION:It’s blueberry season! Fresh picked and u-pick blueberries are waiting for you on West Michigan’s Fruit Ridge! View our guide for farms and markets! \nAssociated Business: Fruit Ridge Markets
URL:https://peoplefirsteconomy.org/event/blueberries-on-the-fruit-ridge/
ATTACH;FMTTYPE=image/jpeg:https://peoplefirsteconomy.org/wp-content/uploads/gravity_forms/5-b73f1e4f654d9908a2edbdd3206ec467/2024/07/291351765_6309286207230_4341522798210050498_n.jpg
END:VEVENT
BEGIN:VEVENT
DTSTART;TZID=America/Detroit:20240715T090000
DTEND;TZID=America/Detroit:20241110T180000
DTSTAMP:20260421T211637
CREATED:20240509T173559Z
LAST-MODIFIED:20240718T191642Z
UID:10001506-1721034000-1731261600@peoplefirsteconomy.org
SUMMARY:Dino Adventures
DESCRIPTION:New for 2024\, something BIG is coming to John Ball Zoo! That roar you hear in the distance may sound a little different than the Lion or Tiger you normally hear during your visit. It’s a dinosaur! Starting in July\, over 20 life-size dinosaurs will make their way to the Zoo’s Forest Realm during Dino Adventures. Hiding in the forest\, guests may encounter a Velociraptor\, a Triceratops\, and even a T-Rex! These large and scientifically accurate animatronic dinosaurs will display real behaviors\, such as mothering\, feeding\, preying\, and more. Interactive elements like a fossil dig pit and T-Rex photo op will engage guests by providing a hands-on experience.   \nJoin as we journey through the ages\, uncovering how the traits of prehistoric dinosaurs have influenced the animals we see today. Through this interactive exhibit we’ll come together to celebrate our living world and the significance of conservation. During Dino Adventures\, John Ball Zoo will aim to foster a deeper appreciation for the natural world\, its history\, and the urgent need for conservation efforts to protect both living species and those yet to come. The Zoo will be transformed with life sized dinosaur replica robots that make noise and move. Guests can embark on a dino safari through the Zoo’s Forest Realm and learn about the dinosaurs that once roamed the Earth.  
URL:https://peoplefirsteconomy.org/event/dino-adventures-2/
END:VEVENT
BEGIN:VEVENT
DTSTART;TZID=America/Detroit:20240724T090000
DTEND;TZID=America/Detroit:20240724T170000
DTSTAMP:20260421T211637
CREATED:20240724T175005Z
LAST-MODIFIED:20240724T175005Z
UID:10002532-1721811600-1721840400@peoplefirsteconomy.org
SUMMARY:Eastern Floral's Summer Sale
DESCRIPTION:Join us at Eastern Floral for the sale of the season from July 22nd – July 27th at our shop\, 2836 Broadmoor Ave SE\, Grand Rapids\, MI 49512!\n\n Enjoy amazing deals including:\n 30% OFF the entire store Select items up to 75% OFF BOGO plant specials $25 wildflower bouquets Special design class events Treats and refreshments\nCome see us and make your summer blossom with beautiful floral arrangements and more. Don’t miss out! 
URL:https://peoplefirsteconomy.org/event/eastern-florals-summer-sale/2024-07-24/
CATEGORIES:Member Event
ATTACH;FMTTYPE=image/jpeg:https://peoplefirsteconomy.org/wp-content/uploads/2024/07/450613842_885348350302462_551868565277601037_n.jpg
END:VEVENT
BEGIN:VEVENT
DTSTART;TZID=America/Detroit:20240724T173000
DTEND;TZID=America/Detroit:20240724T193000
DTSTAMP:20260421T211637
CREATED:20240724T175311Z
LAST-MODIFIED:20240724T175311Z
UID:10002536-1721842200-1721849400@peoplefirsteconomy.org
SUMMARY:Eastern Floral's Bridgerton - Themed Floral Workshop
DESCRIPTION: Join Us for a Bridgerton-Themed Floral Workshop! \n\nStep into the world of Bridgerton with our Bridgerton-Themed Floral Design Class\, on Tuesday\, July 24th\, from 5:30 PM – 7:30 PM\, where you’ll learn to create elegant floral arrangements inspired by the Regency era. Enjoy a delightful high tea with period-appropriate treats and immerse yourself in the opulent decor and fascinating historical insights.\n\nDuring this hands-on workshop\, our talented designers will help you create a beautiful design perfect for the summer season.  All supplies provided.\n\n Our shop is located at 2836 Broadmoor Ave SE\, Grand Rapids\, MI 49512.\n\n Register online at easternfloral.com or by phone at 616-949-2200. Don’t miss out on this elegant affair!
URL:https://peoplefirsteconomy.org/event/eastern-florals-bridgerton-themed-floral-workshop/
CATEGORIES:Member Event
ATTACH;FMTTYPE=image/jpeg:https://peoplefirsteconomy.org/wp-content/uploads/2024/07/449683281_880891014081529_5655007345339033295_n.jpg
END:VEVENT
BEGIN:VEVENT
DTSTART;TZID=America/Detroit:20240724T174500
DTEND;TZID=America/Detroit:20240724T184500
DTSTAMP:20260421T211637
CREATED:20230817T183554Z
LAST-MODIFIED:20230817T183849Z
UID:10000483-1721843100-1721846700@peoplefirsteconomy.org
SUMMARY:Injury Wise with University of Michigan Health-West Sports Medicine
DESCRIPTION:Torn muscles\, sprained ankles and shin splints. These are just some of the injuries that plague athletes. And when you’re injured\, you have questions and you want answers. Come to Gazelle Sports and spend ten minutes one-on-one with a sports medicine professional from University of Michigan Health-West Sports Medicine to discuss your specific injury concerns. There is no appointment necessary for a free session. Appointments are taken on a first come\, first serve basis and may be limited by time.
URL:https://peoplefirsteconomy.org/event/injury-wise-with-university-of-michigan-health-west-sports-medicine/2024-07-24/
CATEGORIES:Community Event
ATTACH;FMTTYPE=image/jpeg:https://peoplefirsteconomy.org/wp-content/uploads/2023/08/324112542_742008380622989_5954439415983805822_n.jpg
END:VEVENT
BEGIN:VEVENT
DTSTART;TZID=America/Detroit:20240724T190000
DTEND;TZID=America/Detroit:20240724T220000
DTSTAMP:20260421T211637
CREATED:20240718T162949Z
LAST-MODIFIED:20240718T191642Z
UID:10002488-1721847600-1721858400@peoplefirsteconomy.org
SUMMARY:Live Music at Bostwick Lake Inn
DESCRIPTION:Live Music at Bostwick Lake InnWednesdays & Thursdays 7pm-closeSundays 6pm-9pm\n\nGet your toes in the sand and groove to some live tunes! Enjoy sunsets on the lake\, delicious food\, and unforgettable live music on our new beachside stage! \n\nLINEUP June 27 SilentBarkJune 30 Grayson BartonJuly 3 CiscoJuly 7 Jake StevensJuly 10 Kyler MalstromJuly 11 ID10T5July 14 Acoustic ShenanigansJuly 17 Walt Gutowski\n\nFor updated schedules and to learn more\, head tohttps://www.thegilmorecollection.com/bostw…/entertainment/\n\n*times and performances are subject to change without notice
URL:https://peoplefirsteconomy.org/event/live-music-at-bostwick-lake-inn/2024-07-24/
CATEGORIES:Member Event
ATTACH;FMTTYPE=image/jpeg:https://peoplefirsteconomy.org/wp-content/uploads/2024/07/449361989_1170597187658048_1553301329211522268_n.jpg
END:VEVENT
END:VCALENDAR