BEGIN:VCALENDAR
VERSION:2.0
PRODID:-//People First Economy - ECPv6.15.20//NONSGML v1.0//EN
CALSCALE:GREGORIAN
METHOD:PUBLISH
X-WR-CALNAME:People First Economy
X-ORIGINAL-URL:https://peoplefirsteconomy.org
X-WR-CALDESC:Events for People First Economy
REFRESH-INTERVAL;VALUE=DURATION:PT1H
X-Robots-Tag:noindex
X-PUBLISHED-TTL:PT1H
BEGIN:VTIMEZONE
TZID:America/Detroit
BEGIN:DAYLIGHT
TZOFFSETFROM:-0500
TZOFFSETTO:-0400
TZNAME:EDT
DTSTART:20220313T070000
END:DAYLIGHT
BEGIN:STANDARD
TZOFFSETFROM:-0400
TZOFFSETTO:-0500
TZNAME:EST
DTSTART:20221106T060000
END:STANDARD
BEGIN:DAYLIGHT
TZOFFSETFROM:-0500
TZOFFSETTO:-0400
TZNAME:EDT
DTSTART:20230312T070000
END:DAYLIGHT
BEGIN:STANDARD
TZOFFSETFROM:-0400
TZOFFSETTO:-0500
TZNAME:EST
DTSTART:20231105T060000
END:STANDARD
BEGIN:DAYLIGHT
TZOFFSETFROM:-0500
TZOFFSETTO:-0400
TZNAME:EDT
DTSTART:20240310T070000
END:DAYLIGHT
BEGIN:STANDARD
TZOFFSETFROM:-0400
TZOFFSETTO:-0500
TZNAME:EST
DTSTART:20241103T060000
END:STANDARD
END:VTIMEZONE
BEGIN:VEVENT
DTSTART;VALUE=DATE:20230901
DTEND;VALUE=DATE:20231117
DTSTAMP:20260423T090710
CREATED:20230914T195721Z
LAST-MODIFIED:20231109T163139Z
UID:10000706-1693526400-1700179199@peoplefirsteconomy.org
SUMMARY:Apple Season / Family Activities with Fruit Ridge Markets
DESCRIPTION:our Local First Member\, Fruit Ridge Markets\, wanted to help out our community by pointing us in the direction of where to pick up local produce???? \n????Fruit Ridge Members raising or selling locally grown apples: \nApple Valley Fun Farm & Abandoned Acres Farm\nBlok Orchards\nCountry Basket\nEd Dunneback E Girls Farm\nFruit Ridge Hayrides\nFryear’s Farm Market\nGrange Ave. Market & U-pick Orchard\nHill’s Bros. Orchard and Cider Mill\nNelson’s Farm Market\nPeach Ridge Farms\nRasch Cherry & Apple Market\nRobinette’s Apple Haus & Winery\nRockford Farmers Market\nThe Market at SECOM\nSnappy Apple Farm Market\nWells Orchards \nFruit Ridge Markets Members for Agricultural Tourism & the activities are highlighted below: \n????Activities included: Corn Mazes\, Hayrides\, pumpkin patches\, cider\, doughnuts\, & haunted corn mazes (NOTE: Apple Valley Fun Farm and Abandoned Acres Farm have haunted Mazes\non Saturdays evenings in October). \n\n\nApple Valley Fun Farm & Abandon Acres Farm\nCountry Basket\nFruit Ridge Hayrides\nRasch Cherry & Apple Market\nRobinette’s Apple Haus & Winery\nWells Orchards \n????Go to your nearest Apple Orchard this weekend and pick some juicy apples! They are in season from September – Mid November! \nVisit Fruit Ridge Farms website here: https://l.facebook.com/l.php?u=http://www.fruitridgemarket.com/farm-markets/?fbclid=IwAR24Mp0iY8fUy0z2uBdyPhf7EvI_6yqyV1v_eouqmeKfnDnq_fb6pyxCqks&h=AT35sVfBzVj_xpvijBWQzf72Z43SRcDNxwR2TNX9Wn-lJz02buPg0Qzn4pPkfEEZZu4zWL4jbsqG_CL0WYiUy4qZrYrnNbMEO9I8mJdWXYUHyBcrqbHGYU-UKuEufTFCFURz_LQslPNLkUdFJ-WWww
URL:https://peoplefirsteconomy.org/event/apple-season-with-fruit-ridge-markets/
CATEGORIES:Community Event
ATTACH;FMTTYPE=image/jpeg:https://peoplefirsteconomy.org/wp-content/uploads/2023/09/305955743_570646228188324_4178474459451187363_n.jpg
END:VEVENT
BEGIN:VEVENT
DTSTART;TZID=America/Detroit:20231001T110000
DTEND;TZID=America/Detroit:20231031T200000
DTSTAMP:20260423T090710
CREATED:20231012T200826Z
LAST-MODIFIED:20231012T200827Z
UID:10000834-1696158000-1698782400@peoplefirsteconomy.org
SUMMARY:Pumpkin Painting
DESCRIPTION:For the month of October you can paint a pumpkin while enjoying your experience at Hancock.  10 piece paint kit\, brush and pumpkin for $5.  Look forward to seeing your creativity!
URL:https://peoplefirsteconomy.org/event/pumpkin-painting/
CATEGORIES:Community Event
ATTACH;FMTTYPE=image/png:https://peoplefirsteconomy.org/wp-content/uploads/2023/10/m1ti7.png
END:VEVENT
BEGIN:VEVENT
DTSTART;TZID=America/Detroit:20231005T160000
DTEND;TZID=America/Detroit:20231005T200000
DTSTAMP:20260423T090710
CREATED:20230814T180515Z
LAST-MODIFIED:20230814T180516Z
UID:10000129-1696521600-1696536000@peoplefirsteconomy.org
SUMMARY:Wine on Thursdays
DESCRIPTION:EVERY THURSDAY EVENING FROM 4 – 8PM…\nStop in for wine tasting! We always have 2-3 options open and encourage you to grab a taste and shop around or talk with our staff while you sip!
URL:https://peoplefirsteconomy.org/event/wine-on-thursdays/2023-10-05/
CATEGORIES:Community Event
ATTACH;FMTTYPE=image/jpeg:https://peoplefirsteconomy.org/wp-content/uploads/2023/08/R.jpg
END:VEVENT
BEGIN:VEVENT
DTSTART;TZID=America/Detroit:20231005T190000
DTEND;TZID=America/Detroit:20231005T203000
DTSTAMP:20260423T090710
CREATED:20231004T204041Z
LAST-MODIFIED:20231004T204042Z
UID:10000723-1696532400-1696537800@peoplefirsteconomy.org
SUMMARY:Kamiko Hahn Poetry Event @ Wealthy Theater
DESCRIPTION:Event coordinated by GVSU Arts Celebration\nStart time 7 pm (set up will be earlier) \nContact: \n\n\n\n\n\n\n\n\nKristen Krueger-Corrado <kruegekr@gvsu.edu>
URL:https://peoplefirsteconomy.org/event/kamiko-hahn-poetry-event-wealthy-theater/
CATEGORIES:Community Event
ATTACH;FMTTYPE=image/jpeg:https://peoplefirsteconomy.org/wp-content/uploads/2023/10/IMG_0353.jpg
END:VEVENT
BEGIN:VEVENT
DTSTART;TZID=America/Detroit:20231005T193000
DTEND;TZID=America/Detroit:20231005T210000
DTSTAMP:20260423T090710
CREATED:20230829T165628Z
LAST-MODIFIED:20230829T165629Z
UID:10000599-1696534200-1696539600@peoplefirsteconomy.org
SUMMARY:Dave Wellfare Headlines Ore Dock Brewery
DESCRIPTION:Comedy Night!\nDave Wellfare Headlines the Ore Dock Brewery\, with local guests!\nHosted by Vincent Schultz\n\nDave Wellfare\nShort on stature and big on personality is one way to describe Dave Wellfare. Another way would be to say\, “His contagious energy fills any venue as he brings an in your face intensity to comedy as he tackles real life issues with a sarcastic twist. “ This former radio personality brings his animated stage persona to life in a show that’s guaranteed to make you come back for more. Dave has been in the entertainment industry for over 19 years\, starting off on the #1 morning show in Lansing\, MI. before transitioning to his real passion…Stand-Up Comedy. Lamenting his frustrations with raw attitude and comic fury are his forte. Dave has opened for many comedy great such as Fortune Feimster\, Robert Kelly\, Joe List and Dave Williamson to name a few. Also\, Dave has been seen at comedy festivals all over the US. Most notably Laughfest\, Grand Rapids premier comedy festival and Canada’s Border City Comedy Festival.\n\nDoors Open at 6:30\nShow Starts at 7:30pm\nTickets available online and at the door $10\n\nTickets: Tickets | Ore Dock Brewing Co. (square.site)
URL:https://peoplefirsteconomy.org/event/dave-wellfare-headlines-ore-dock-brewery/
CATEGORIES:Community Event
ATTACH;FMTTYPE=image/jpeg:https://peoplefirsteconomy.org/wp-content/uploads/2023/08/358428416_654365900050120_2058827793830272936_n.jpg
END:VEVENT
END:VCALENDAR